BEGIN:VCALENDAR
VERSION:2.0
PRODID:-//SWAN for Wildlife - ECPv6.15.20//NONSGML v1.0//EN
CALSCALE:GREGORIAN
METHOD:PUBLISH
X-WR-CALNAME:SWAN for Wildlife
X-ORIGINAL-URL:https://swanforwildlife.org
X-WR-CALDESC:Events for SWAN for Wildlife
REFRESH-INTERVAL;VALUE=DURATION:PT1H
X-Robots-Tag:noindex
X-PUBLISHED-TTL:PT1H
BEGIN:VTIMEZONE
TZID:Europe/London
BEGIN:DAYLIGHT
TZOFFSETFROM:+0000
TZOFFSETTO:+0100
TZNAME:BST
DTSTART:20250330T010000
END:DAYLIGHT
BEGIN:STANDARD
TZOFFSETFROM:+0100
TZOFFSETTO:+0000
TZNAME:GMT
DTSTART:20251026T010000
END:STANDARD
BEGIN:DAYLIGHT
TZOFFSETFROM:+0000
TZOFFSETTO:+0100
TZNAME:BST
DTSTART:20260329T010000
END:DAYLIGHT
BEGIN:STANDARD
TZOFFSETFROM:+0100
TZOFFSETTO:+0000
TZNAME:GMT
DTSTART:20261025T010000
END:STANDARD
BEGIN:DAYLIGHT
TZOFFSETFROM:+0000
TZOFFSETTO:+0100
TZNAME:BST
DTSTART:20270328T010000
END:DAYLIGHT
BEGIN:STANDARD
TZOFFSETFROM:+0100
TZOFFSETTO:+0000
TZNAME:GMT
DTSTART:20271031T010000
END:STANDARD
END:VTIMEZONE
BEGIN:VEVENT
DTSTART;TZID=Europe/London:20260516T130000
DTEND;TZID=Europe/London:20260517T170000
DTSTAMP:20260421T095300
CREATED:20260323T195559Z
LAST-MODIFIED:20260325T110429Z
UID:3178-1778936400-1779037200@swanforwildlife.org
SUMMARY:Open Gardens for Wildlife in Wellesbourne 2026
DESCRIPTION:The theme for the third Open Gardens for Wildlife in Wellesbourne and Hunscote is Moths and Butterflies. 50% of money raised will go to the Warwickshire branch of Butterfly Conservation. The rest will go into wildlife and nature friendly projects in and around Wellesbourne. \nThis year we have around 12 residential gardens (one new\, two returning from 2024)\, Chedham’s Yard and seven plots at Wellesbourne Allotments. Dene Meadow and the Methodist Hall are also part of the day. Please note\, Hunscote is a cycle ride or drive from Wellesbourne. There will be a Plant Sale on Saturday\, Sunday is to be confirmed. \n \n 
URL:https://swanforwildlife.org/event/open-gardens-for-wildlife-in-wellesbourne-2026/
LOCATION:Wellesbourne
CATEGORIES:Wellesbourne
ATTACH;FMTTYPE=image/jpeg:https://swanforwildlife.org/wp-content/uploads/2025/12/header-butterfly02.jpg
ORGANIZER;CN="Sustainable Wellesbourne":MAILTO:sustainablewellesbourne@wellesbourneandwalton-pc.gov.uk
END:VEVENT
BEGIN:VEVENT
DTSTART;TZID=Europe/London:20260523T090000
DTEND;TZID=Europe/London:20260523T111500
DTSTAMP:20260421T095300
CREATED:20260413T131544Z
LAST-MODIFIED:20260414T075216Z
UID:3286-1779526800-1779534900@swanforwildlife.org
SUMMARY:Moth morning in Hunscote
DESCRIPTION:
URL:https://swanforwildlife.org/event/moth-morning-in-hunscote/
LOCATION:Twitey’s Camping and Glamping Meadows\, Hunscote Lane\, Warwick\, Warwickshire\, CV35 9EX\, United Kingdom
CATEGORIES:Wellesbourne
ATTACH;FMTTYPE=image/jpeg:https://swanforwildlife.org/wp-content/uploads/2026/04/Jersey-tiger-moth.jpg
ORGANIZER;CN="Sustainable Wellesbourne":MAILTO:sustainablewellesbourne@wellesbourneandwalton-pc.gov.uk
END:VEVENT
END:VCALENDAR