BEGIN:VCALENDAR
VERSION:2.0
PRODID:-//SWAN for Wildlife - ECPv6.15.20//NONSGML v1.0//EN
CALSCALE:GREGORIAN
METHOD:PUBLISH
X-ORIGINAL-URL:https://swanforwildlife.org
X-WR-CALDESC:Events for SWAN for Wildlife
REFRESH-INTERVAL;VALUE=DURATION:PT1H
X-Robots-Tag:noindex
X-PUBLISHED-TTL:PT1H
BEGIN:VTIMEZONE
TZID:Europe/London
BEGIN:DAYLIGHT
TZOFFSETFROM:+0000
TZOFFSETTO:+0100
TZNAME:BST
DTSTART:20250330T010000
END:DAYLIGHT
BEGIN:STANDARD
TZOFFSETFROM:+0100
TZOFFSETTO:+0000
TZNAME:GMT
DTSTART:20251026T010000
END:STANDARD
BEGIN:DAYLIGHT
TZOFFSETFROM:+0000
TZOFFSETTO:+0100
TZNAME:BST
DTSTART:20260329T010000
END:DAYLIGHT
BEGIN:STANDARD
TZOFFSETFROM:+0100
TZOFFSETTO:+0000
TZNAME:GMT
DTSTART:20261025T010000
END:STANDARD
BEGIN:DAYLIGHT
TZOFFSETFROM:+0000
TZOFFSETTO:+0100
TZNAME:BST
DTSTART:20270328T010000
END:DAYLIGHT
BEGIN:STANDARD
TZOFFSETFROM:+0100
TZOFFSETTO:+0000
TZNAME:GMT
DTSTART:20271031T010000
END:STANDARD
END:VTIMEZONE
BEGIN:VEVENT
DTSTART;VALUE=DATE:20260407
DTEND;VALUE=DATE:20260831
DTSTAMP:20260421T095419
CREATED:20260407T195526Z
LAST-MODIFIED:20260410T170022Z
UID:3224-1775520000-1788134399@swanforwildlife.org
SUMMARY:Tysoe's Photography Competition 2026
DESCRIPTION:Tysoe Wildlife in conjunction with Tysoe & District Record are planning a photographic competition to select 12 photos for a ‘Tysoe Wildlife’ calendar for 2027.  The calendar will go on sale at the end of the year\, and proceeds will be used to support wildlife in the parish. \nThe theme of the competition is ‘Wild Warwickshire’. \nPhotographs must have been taken in Warwickshire since 2024. \nPhotographers with a range of experience from novice to expert are encouraged to enter. Up to three images may be submitted per person. \nAll photographs must be submitted as a digital image (JPEG or PNG) in landscape orientation\, with a 6 x 4 ratio\, ideally at a resolution of at least 300 dpi or 1mb in size. \nEntrants must give their full name and email to the competition organisers. This data will be processed and stored in a secure manner and will only be kept for the duration of the 2026 competition. \nTO ENTER: email your entries to tysoewildlife@gmail.com. Larger files can be sent via wetransfer – https://wetransfer.com/. Closing date is 30th August 2026. \nThe decision of the judges for the ‘Wild Warwickshire Photographic Competition’ is final. \nPlease note: All images submitted must be the work of the individual submitting them. It is the responsibility of each entrant to ensure that any images they submit have been taken with the permission of the subject (where necessary) and do not infringe the copyright of any third party. Entrants must warrant that the photograph they are submitting is their own work and that they own the copyright for it. \nThe photographer gives permission to Tysoe Wildlife and the Tysoe Record to print the photographs in the Calendar and for them to be cropped or adjusted where necessary to assist with the printing. The photographer also gives permission for Tysoe Wildlife to features the images on our web pages and Facebook page\, while Tysoe Record may wish to reproduce them in the village newsletter. \n  \n 
URL:https://swanforwildlife.org/event/tysoes-photography-competition-2026/
CATEGORIES:Tysoe
ATTACH;FMTTYPE=image/jpeg:https://swanforwildlife.org/wp-content/uploads/2026/04/Landscape-e1775833647751.jpg
ORGANIZER;CN="Tysoe Wildlife":MAILTO:tysoewildlife@gmail.com
END:VEVENT
BEGIN:VEVENT
DTSTART;TZID=Europe/London:20260425T100000
DTEND;TZID=Europe/London:20260425T123000
DTSTAMP:20260421T095419
CREATED:20260203T125412Z
LAST-MODIFIED:20260228T114428Z
UID:2168-1777111200-1777120200@swanforwildlife.org
SUMMARY:Birdsong\, Spring Migrants and the Pond’s Wildlife
DESCRIPTION:Event by Sun Rising Natural Burial Ground and Nature Reserve \nAfter the hard work of digging the extension to our pond last autumn\, watching it fill as the rains came in early winter\, we’re now ready for an official opening! \nWe’ll start by walking along the boundary hedges\, listening to the spring birdsong\, looking out for spring migrants\, pausing at the swift tower. At the the pond\, we’ll be looking at its spring flora and fauna\, exploring pondlife (in the dipping pond)\, and talking about the wildlife that will benefit from the larger area of water\, such as swifts\, dragonflies and bats. We will then make our way up the boundary hedgerows to the Longhouse for a cuppa. \nThe event is open to sensible accompanied children who are keen on the natural world. \nThis event is by donation.  Please let us know if you would like to come along\, and we can give you more information: office@sunrising.co.uk. \nWhat3words:\nSouth Entrance /// forget.brambles.debt\nNorth Entrance ///overcomes.store.muddle
URL:https://swanforwildlife.org/event/birdsong-spring-migrants-and-the-ponds-wildlife/
LOCATION:Sun Rising Natural Burial Ground and Nature Reserve\, Radway Road\, Lower Tysoe\, Warwickshire\, CV35 0DG\, United Kingdom
CATEGORIES:Tysoe
ATTACH;FMTTYPE=image/jpeg:https://swanforwildlife.org/wp-content/uploads/2025/12/header-buttercups.jpg
END:VEVENT
BEGIN:VEVENT
DTSTART;TZID=Europe/London:20260503T190000
DTEND;TZID=Europe/London:20260503T220000
DTSTAMP:20260421T095419
CREATED:20260406T075441Z
LAST-MODIFIED:20260414T075423Z
UID:3198-1777834800-1777845600@swanforwildlife.org
SUMMARY:Tysoe Wildlife Quiz
DESCRIPTION:  \n \nBuy Tickets\n 
URL:https://swanforwildlife.org/event/tysoe-wildlife-quiz/
LOCATION:Tysoe Village Hall\, Main Street\, Tysoe\, Warwickshire\, CV35 0SE\, United Kingdom
CATEGORIES:Tysoe
ATTACH;FMTTYPE=image/jpeg:https://swanforwildlife.org/wp-content/uploads/2026/01/Gardening-Bee-on-lavendar.jpg
ORGANIZER;CN="Tysoe Wildlife":MAILTO:tysoewildlife@gmail.com
END:VEVENT
END:VCALENDAR