BEGIN:VCALENDAR
VERSION:2.0
PRODID:-//SWAN for Wildlife - ECPv6.15.20//NONSGML v1.0//EN
CALSCALE:GREGORIAN
METHOD:PUBLISH
X-WR-CALNAME:SWAN for Wildlife
X-ORIGINAL-URL:https://swanforwildlife.org
X-WR-CALDESC:Events for SWAN for Wildlife
REFRESH-INTERVAL;VALUE=DURATION:PT1H
X-Robots-Tag:noindex
X-PUBLISHED-TTL:PT1H
BEGIN:VTIMEZONE
TZID:Europe/London
BEGIN:DAYLIGHT
TZOFFSETFROM:+0000
TZOFFSETTO:+0100
TZNAME:BST
DTSTART:20250330T010000
END:DAYLIGHT
BEGIN:STANDARD
TZOFFSETFROM:+0100
TZOFFSETTO:+0000
TZNAME:GMT
DTSTART:20251026T010000
END:STANDARD
BEGIN:DAYLIGHT
TZOFFSETFROM:+0000
TZOFFSETTO:+0100
TZNAME:BST
DTSTART:20260329T010000
END:DAYLIGHT
BEGIN:STANDARD
TZOFFSETFROM:+0100
TZOFFSETTO:+0000
TZNAME:GMT
DTSTART:20261025T010000
END:STANDARD
BEGIN:DAYLIGHT
TZOFFSETFROM:+0000
TZOFFSETTO:+0100
TZNAME:BST
DTSTART:20270328T010000
END:DAYLIGHT
BEGIN:STANDARD
TZOFFSETFROM:+0100
TZOFFSETTO:+0000
TZNAME:GMT
DTSTART:20271031T010000
END:STANDARD
END:VTIMEZONE
BEGIN:VEVENT
DTSTART;TZID=Europe/London:20260323T100000
DTEND;TZID=Europe/London:20260323T160000
DTSTAMP:20260421T111602
CREATED:20260203T131457Z
LAST-MODIFIED:20260228T114248Z
UID:2179-1774260000-1774281600@swanforwildlife.org
SUMMARY:Sun Rising Burial Ground and Nature Reserve Open Day
DESCRIPTION:Event by Sun Rising Natural Burial Ground and Nature Reserve \nOur annual Open Day is a great opportunity to explore what we offer here at Sun Rising.  You can meet staff and trustees\, talk through ideas and requirements\, and take a tour of the natural burial ground and/or nature reserve with one of our team or by yourselves. \nThere’ll be refreshments all day\, in aid of The Friends of Sun Rising.  We’ll have a nature table for those who would like to know more about the nature reserve and information about our gorgeous wildflowers too.   Our local willow coffin maker\, Caz from Wild Heart Coffins\, will be lending us a coffin\, and we’ll have a beautifully elegant and simple card coffin too.  There’ll also be English flowers from Tysoe village florist\, Hope and Glory. \nThere’s no need to book for this event.  All are welcome. \nWhat3words:\nSouth Entrance /// forget.brambles.debt\nNorth Entrance ///overcomes.store.muddle
URL:https://swanforwildlife.org/event/sun-rising-burial-ground-and-nature-reserve-open-day/
LOCATION:Sun Rising Natural Burial Ground and Nature Reserve\, Radway Road\, Lower Tysoe\, Warwickshire\, CV35 0DG\, United Kingdom
CATEGORIES:Tysoe
ATTACH;FMTTYPE=image/jpeg:https://swanforwildlife.org/wp-content/uploads/2025/12/header-butterfly02.jpg
END:VEVENT
BEGIN:VEVENT
DTSTART;TZID=Europe/London:20260114T190000
DTEND;TZID=Europe/London:20260114T203000
DTSTAMP:20260421T111602
CREATED:20260113T174932Z
LAST-MODIFIED:20260113T175357Z
UID:917-1768417200-1768422600@swanforwildlife.org
SUMMARY:The Big Tysoe Wildlife Gathering
DESCRIPTION:JOIN OUR TYSOE MURMURATION . . .\nThe idea is to bring our various nature and wildlife interests together under one big roof to discuss plans for the year ahead. That way we can keep the focus on nature and encourage more people to get involved. Our aim is to celebrate and value the wildlife that surrounds us. Simple\, everyday wildlife.\nWe hope that together we can develop our own Tysoe Almanac – a series of wildlife events\, talks\, activities and projects which take place throughout the year focused on wildlife\, whether that’s:\n\n\n\nTaking part in the Big Garden Birdwatch\nMaking and putting up bird boxes\nListening to the dawn chorus at the Natural Burial Ground\nSupporting No Mow May\nFilling in gaps in hedgerows\nPlanting for pollinators and bats\nCutting openings in garden fences for hedgehogs to pass through\nStaging a BioBlitz to find plants\, animals and fungi\, etc at the Community Orchard\nHolding wildlife workshops for children in the summer holidays . .\n\n\n\nThere’s a whole host of things that we can all do to make space for wildlife. You may have some suggestions of your own which you would like to share.\n\n\nOur aim is the same as the illustrator Jackie Morris states in The Lost Words\, “created as a hope\, to re-engage an interest\, to refocus the mind’s eye\, to celebrate the nearby wild and awaken a sense of wonder and awe for the amazing planet we live on.”\n\n\nPLEASE MAKE A NOTE IN YOUR DIARIES AND COME JOIN US!
URL:https://swanforwildlife.org/event/the-big-tysoe-wildlife-gathering/
LOCATION:St. Mary’s Church\, Tysoe
CATEGORIES:Tysoe
ATTACH;FMTTYPE=image/jpeg:https://swanforwildlife.org/wp-content/uploads/2026/01/The-Big-Tysoe-Wildlife-Gathering02.jpg
END:VEVENT
END:VCALENDAR