BEGIN:VCALENDAR
VERSION:2.0
PRODID:-//SWAN for Wildlife - ECPv6.15.20//NONSGML v1.0//EN
CALSCALE:GREGORIAN
METHOD:PUBLISH
X-ORIGINAL-URL:https://swanforwildlife.org
X-WR-CALDESC:Events for SWAN for Wildlife
REFRESH-INTERVAL;VALUE=DURATION:PT1H
X-Robots-Tag:noindex
X-PUBLISHED-TTL:PT1H
BEGIN:VTIMEZONE
TZID:Europe/London
BEGIN:DAYLIGHT
TZOFFSETFROM:+0000
TZOFFSETTO:+0100
TZNAME:BST
DTSTART:20250330T010000
END:DAYLIGHT
BEGIN:STANDARD
TZOFFSETFROM:+0100
TZOFFSETTO:+0000
TZNAME:GMT
DTSTART:20251026T010000
END:STANDARD
BEGIN:DAYLIGHT
TZOFFSETFROM:+0000
TZOFFSETTO:+0100
TZNAME:BST
DTSTART:20260329T010000
END:DAYLIGHT
BEGIN:STANDARD
TZOFFSETFROM:+0100
TZOFFSETTO:+0000
TZNAME:GMT
DTSTART:20261025T010000
END:STANDARD
BEGIN:DAYLIGHT
TZOFFSETFROM:+0000
TZOFFSETTO:+0100
TZNAME:BST
DTSTART:20270328T010000
END:DAYLIGHT
BEGIN:STANDARD
TZOFFSETFROM:+0100
TZOFFSETTO:+0000
TZNAME:GMT
DTSTART:20271031T010000
END:STANDARD
END:VTIMEZONE
BEGIN:VEVENT
DTSTART;TZID=Europe/London:20260424T100000
DTEND;TZID=Europe/London:20260424T140000
DTSTAMP:20260421T095540
CREATED:20260414T060046Z
LAST-MODIFIED:20260414T074657Z
UID:3309-1777024800-1777039200@swanforwildlife.org
SUMMARY:St Edmund's Church\, Shipston on Stour - Coffee Morning and Churchyard Nature Hunt and Survey
DESCRIPTION:Coffee morning 10-12 noon. \nNature hunt and survey 12-2 pm. \nAll welcome. \n \n 
URL:https://swanforwildlife.org/event/st-edmunds-church-shipston-on-stour-coffee-morning-and-churchyard-nature-hunt-and-survey/
LOCATION:St Edmund’s Church\, Shipston on Stour\, Shipston on Stour\, Warwickshire\, CV36 4AP\, United Kingdom
CATEGORIES:Churchyards,Stourvale
ATTACH;FMTTYPE=image/jpeg:https://swanforwildlife.org/wp-content/uploads/2025/12/header-butterfly.jpg
END:VEVENT
BEGIN:VEVENT
DTSTART;TZID=Europe/London:20260508T100000
DTEND;TZID=Europe/London:20260508T110000
DTSTAMP:20260421T095540
CREATED:20260414T063938Z
LAST-MODIFIED:20260414T074803Z
UID:3315-1778234400-1778238000@swanforwildlife.org
SUMMARY:River water testing - Shipston-on-Stour
DESCRIPTION:Testing river water quality with River Ranger\, Luke McCusker – Shipston Bridge.
URL:https://swanforwildlife.org/event/river-water-testing-shipston-on-stour/
LOCATION:Shipston Bridge\, Shipston-on-Stour\, Warwickshire\, CV36 4AW\, United Kingdom
CATEGORIES:Rivers,Stourvale
ATTACH;FMTTYPE=image/jpeg:https://swanforwildlife.org/wp-content/uploads/2026/03/Header-River-Blessing.jpg
END:VEVENT
BEGIN:VEVENT
DTSTART;TZID=Europe/London:20260606T080000
DTEND;TZID=Europe/London:20260606T100000
DTSTAMP:20260421T095540
CREATED:20260414T074143Z
LAST-MODIFIED:20260421T075903Z
UID:3324-1780732800-1780740000@swanforwildlife.org
SUMMARY:St Edmund's Churchyard\, Shipston-on-Stour - breakfast with the moths
DESCRIPTION:Great Big Green Week logo \nJoin us for breakfast and to examine what the moth trap has captured overnight. \n \n 
URL:https://swanforwildlife.org/event/st-edmunds-churchyard-shipston-on-stour-breakfast-with-the-moths/
LOCATION:St Edmund’s Church\, Shipston on Stour\, Shipston on Stour\, Warwickshire\, CV36 4AP\, United Kingdom
CATEGORIES:Churchyards,Stourvale
ATTACH;FMTTYPE=image/jpeg:https://swanforwildlife.org/wp-content/uploads/2026/04/Jersey-tiger-moth.jpg
END:VEVENT
BEGIN:VEVENT
DTSTART;TZID=Europe/London:20260607T100000
DTEND;TZID=Europe/London:20260607T120000
DTSTAMP:20260421T095540
CREATED:20260414T073513Z
LAST-MODIFIED:20260414T082059Z
UID:3321-1780826400-1780833600@swanforwildlife.org
SUMMARY:Cornmill Meadows\, Shipston-on-Stour - survey by Warwickshire Flora Group
DESCRIPTION:Great Big Green Week logo \nThe Warwickshire Flora Group will be surveying plants in the meadow. Mike Slater\, Chair of Warwickshire Butterfly Conservation will also be there to give information about local butterflies.
URL:https://swanforwildlife.org/event/cornmill-meadows-shipston-on-stour-survey-by-warwickshire-flora-group/
LOCATION:Cornmill Meadows\, Shipston-on-Stour\, Shipston-on-Stour\, Warwickshire\, CV36 4HZ\, United Kingdom
CATEGORIES:Stourvale
ATTACH;FMTTYPE=image/jpeg:https://swanforwildlife.org/wp-content/uploads/2025/12/header-buttercups.jpg
END:VEVENT
END:VCALENDAR