BEGIN:VCALENDAR
VERSION:2.0
PRODID:-//SWAN for Wildlife - ECPv6.15.20//NONSGML v1.0//EN
CALSCALE:GREGORIAN
METHOD:PUBLISH
X-ORIGINAL-URL:https://swanforwildlife.org
X-WR-CALDESC:Events for SWAN for Wildlife
REFRESH-INTERVAL;VALUE=DURATION:PT1H
X-Robots-Tag:noindex
X-PUBLISHED-TTL:PT1H
BEGIN:VTIMEZONE
TZID:Europe/London
BEGIN:DAYLIGHT
TZOFFSETFROM:+0000
TZOFFSETTO:+0100
TZNAME:BST
DTSTART:20250330T010000
END:DAYLIGHT
BEGIN:STANDARD
TZOFFSETFROM:+0100
TZOFFSETTO:+0000
TZNAME:GMT
DTSTART:20251026T010000
END:STANDARD
BEGIN:DAYLIGHT
TZOFFSETFROM:+0000
TZOFFSETTO:+0100
TZNAME:BST
DTSTART:20260329T010000
END:DAYLIGHT
BEGIN:STANDARD
TZOFFSETFROM:+0100
TZOFFSETTO:+0000
TZNAME:GMT
DTSTART:20261025T010000
END:STANDARD
BEGIN:DAYLIGHT
TZOFFSETFROM:+0000
TZOFFSETTO:+0100
TZNAME:BST
DTSTART:20270328T010000
END:DAYLIGHT
BEGIN:STANDARD
TZOFFSETFROM:+0100
TZOFFSETTO:+0000
TZNAME:GMT
DTSTART:20271031T010000
END:STANDARD
END:VTIMEZONE
BEGIN:VEVENT
DTSTART;TZID=Europe/London:20260314T103000
DTEND;TZID=Europe/London:20260314T143000
DTSTAMP:20260419T140104
CREATED:20260203T124141Z
LAST-MODIFIED:20260228T114046Z
UID:2161-1773484200-1773498600@swanforwildlife.org
SUMMARY:International Rivers Day\, 14th March 2026
DESCRIPTION:Free Event at Shipston Riverside (Bridge Car Park CV36 4AW) \n\nJoin in a River Blessing Ceremony by our local Druid\, Martin Russell\, at 11.00am\nSee display by Shipston Area Flood Action Group (S.A.F.A.G.) – all day\nSee display about Water Power and the many historic Watermills on the River Stour – all day\nLearn about the weekly Water Quality Testing (SafeAvon Citizen Science) that takes place by the bridge\, and safely have a go – 11.30am and 1.30pm\nLearn how to safely carry out Kick-Sampling in the shallow water by the bridge; learn how to identify the invertebrates present\, and why they are so important for understanding the general health of the river; meet Alex Jones of Riverfly Monitoring Project – 11.30am and 1.30pm\nEnjoy some ‘water’ music by ‘Misspent Ukes’\, our local U3A ukulele band\, at lunchtime\nBring a picnic and wear weather-proof clothes!\n\nFor enquiries please email: verityrichardson@gmail.com or call: 07929 889091. \nBrought to you by: Stourvale Action for the Environment (SAFE). \n  \n \n     
URL:https://swanforwildlife.org/event/international-rivers-day/
LOCATION:Shipston Bridge\, Shipston-on-Stour\, Warwickshire\, CV36 4AW\, United Kingdom
CATEGORIES:River Hope,Rivers,Stourvale
ATTACH;FMTTYPE=image/jpeg:https://swanforwildlife.org/wp-content/uploads/2026/02/header-SAFE-River-Day.jpg
END:VEVENT
BEGIN:VEVENT
DTSTART;TZID=Europe/London:20260313T090000
DTEND;TZID=Europe/London:20260313T170000
DTSTAMP:20260419T140104
CREATED:20260222T115308Z
LAST-MODIFIED:20260228T113923Z
UID:2925-1773392400-1773421200@swanforwildlife.org
SUMMARY:Living with water and rivers: now and into the future
DESCRIPTION:Part of River Hope’s The Gathering: For Water and Nature 6–15 March 2026\, this full day event explores how we live with water\, rivers and their biodiversity\, now and into the future. \nThis day brings together local and national voices to explore river health\, pollution\, adaptation and cross-party collaboration for the Avon and its local tributaries. It creates space and opportunity for all to share and reflect on the health of local rivers\, the causes and impacts of pollution\, and climate change and need for adaptation and resilience. It identifies actions we can take to restore Nature and strengthen communities and work together more collaboratively. Through a series of engaging panel discussions with national and local voices\, pledges and calls to action\, we will explore: \n\nTesting the waters: uncovering hidden pollutants\nFrom land to water: how river systems respond\nWater\, rivers and climate change: adaptation and resilience\nCross-party collaboration: hearing from our elected representatives\n\nThe event is free – pre-registration required: \n\n\nReserve a spot\n\n \n  \n\n  \nThe programme concludes with an evening film screening of “Jo in the Water” (Ticketed) and the launch of the Clean\, Green and Blue Challenge for Stratford-upon-Avon\, led by Rubbish Friends. \nWhether you are a local resident\, activist\, student\, policymaker\, land manager\, artist or simply someone who cares about water and Nature\, this event is for you! \nThis event has been made possible with the generous support of the Crowne Plaza Stratford-Upon-Avon\, Stratford Town Trust\, Purple Square Audio Visual Ltd\, the Launch Agency and Encode. \nSession collaborators: \n\nUK River Summit\nRivers Rights Network\nBeneath British Waters (filmmaker\, Mark Barrow)\nSafeAvon\nSouth Warwickshire Area Network for Wildlife (SWAN)\nNapton Environmental Action Team (NEAT)\nStratford Climate Action/Net Zero\nMoving Souls Dance\nManuela Perteghella MP\n\n        \n\nEvent organisers: Rubbish Friends Stratford-Upon-Avon and River Hope. \n———– \nAbout “The Gathering: for water and Nature”\nOriginally the vision of River Hope\, “The Gathering: For Water and Nature is an informative\, thought-provoking\, inspiring and collaborative programme celebrating water\, rivers and their ecosystems across South Warwickshire. \nRunning from Friday 6 to Sunday 15 March 2026 and including the International Day of Action for Rivers on Saturday 14 March\, The Gathering brings together science\, activism\, creative arts\, ceremony\, celebration\, and pledges for advocacy and practical action. It offers a mix of films\, data presentations\, talks and performances\, workshops\, panel discussions\, Q&A sessions with local and national speakers and insights from grassroots community groups. \nResidents and different categories of stakeholders can take new opportunities to listen to each other\, see water differently\, remember the value of water and Nature and our part in it\, and celebrate waterbodies as the lifeblood of the web of thriving life for millennia. This is an invitation to remember our deep relationships with water and Nature\, reflect on what values we give to them and work together to restore what is damaged and struggling today. \nFor the full programme of events\, visit The Gathering on River Hope’s website.
URL:https://swanforwildlife.org/event/living-with-water-and-rivers-now-and-into-the-future/
LOCATION:Crowne Plaza Hotel\, Bridgefoot\, Stratford-Upon-Avon\, Warwickshire\, CV37 6YR\, United Kingdom
CATEGORIES:Dene,RAAR,River Hope,Rivers,Stourvale,Wellesbourne & Walton Flood ACtion Group
ATTACH;FMTTYPE=image/jpeg:https://swanforwildlife.org/wp-content/uploads/2026/02/header-flooding-martin-liddament.jpg
ORGANIZER;CN="River Hope":MAILTO:info@riverhope.org.uk
END:VEVENT
END:VCALENDAR