BEGIN:VCALENDAR
VERSION:2.0
PRODID:-//SWAN for Wildlife - ECPv6.15.20//NONSGML v1.0//EN
CALSCALE:GREGORIAN
METHOD:PUBLISH
X-WR-CALNAME:SWAN for Wildlife
X-ORIGINAL-URL:https://swanforwildlife.org
X-WR-CALDESC:Events for SWAN for Wildlife
REFRESH-INTERVAL;VALUE=DURATION:PT1H
X-Robots-Tag:noindex
X-PUBLISHED-TTL:PT1H
BEGIN:VTIMEZONE
TZID:Europe/London
BEGIN:DAYLIGHT
TZOFFSETFROM:+0000
TZOFFSETTO:+0100
TZNAME:BST
DTSTART:20250330T010000
END:DAYLIGHT
BEGIN:STANDARD
TZOFFSETFROM:+0100
TZOFFSETTO:+0000
TZNAME:GMT
DTSTART:20251026T010000
END:STANDARD
BEGIN:DAYLIGHT
TZOFFSETFROM:+0000
TZOFFSETTO:+0100
TZNAME:BST
DTSTART:20260329T010000
END:DAYLIGHT
BEGIN:STANDARD
TZOFFSETFROM:+0100
TZOFFSETTO:+0000
TZNAME:GMT
DTSTART:20261025T010000
END:STANDARD
BEGIN:DAYLIGHT
TZOFFSETFROM:+0000
TZOFFSETTO:+0100
TZNAME:BST
DTSTART:20270328T010000
END:DAYLIGHT
BEGIN:STANDARD
TZOFFSETFROM:+0100
TZOFFSETTO:+0000
TZNAME:GMT
DTSTART:20271031T010000
END:STANDARD
END:VTIMEZONE
BEGIN:VEVENT
DTSTART;VALUE=DATE:20260415
DTEND;VALUE=DATE:20260916
DTSTAMP:20260421T101115
CREATED:20260415T124027Z
LAST-MODIFIED:20260419T130555Z
UID:3365-1776211200-1789516799@swanforwildlife.org
SUMMARY:Community Balsam Pulls - Gunnings Bridge and other locations
DESCRIPTION:Regular community Himalayan balsam pulls along the Arrow and Alne catchment. Starting at Gunnings Bridge\, with locations updated weekly depending on where the balsam is coming through most strongly.\nLocations will be updated on Facebook and WhatsApp. \nEvery Monday\, 11.30-12.30\nEvery Thursday\, 5.30-6.30pm
URL:https://swanforwildlife.org/event/community-balsam-pulls-gunnings-bridge-and-other-locations/
LOCATION:Gunnings Bridge\, Henley Street\, Alcester\, Warwickshire\, United Kingdom
CATEGORIES:RAAR,Rivers
ATTACH;FMTTYPE=image/jpeg:https://swanforwildlife.org/wp-content/uploads/2026/04/Header-Balsam-RAAR.jpg
ORGANIZER;CN="RAAR":MAILTO:riverarrowvolunteers@gmail.com
END:VEVENT
BEGIN:VEVENT
DTSTART;TZID=Europe/London:20260502T130000
DTEND;TZID=Europe/London:20260502T143000
DTSTAMP:20260421T101115
CREATED:20260415T120638Z
LAST-MODIFIED:20260419T130436Z
UID:3352-1777726800-1777732200@swanforwildlife.org
SUMMARY:River Arrow Monthly Community River Walk
DESCRIPTION:Our regular monthly community river walk following the usual Jubilee Fields loop from the Eric Payne Community Centre.
URL:https://swanforwildlife.org/event/river-arrow-monthly-community-river-walk/
LOCATION:Eric Payne Community Centre\, Alcester
CATEGORIES:RAAR,Rivers
ATTACH;FMTTYPE=image/jpeg:https://swanforwildlife.org/wp-content/uploads/2026/04/Header-Balsam-RAAR.jpg
ORGANIZER;CN="RAAR":MAILTO:riverarrowvolunteers@gmail.com
END:VEVENT
BEGIN:VEVENT
DTSTART;TZID=Europe/London:20260505T053000
DTEND;TZID=Europe/London:20260505T061500
DTSTAMP:20260421T101115
CREATED:20260415T122350Z
LAST-MODIFIED:20260415T122350Z
UID:3355-1777959000-1777961700@swanforwildlife.org
SUMMARY:River Arrow - Dawn Chorus Day Gathering at Gunnings Bridge
DESCRIPTION:An early morning riverside gathering to listen to the dawn chorus on Dawn Chorus Day.\nMeet at Gunnings Bridge car park\, then a short walk into the nature reserve. Please bring a blanket or something to sit on and a thermos flask if you would like.
URL:https://swanforwildlife.org/event/river-arrow-dawn-chorus-day-gathering-at-gunnings-bridge/
LOCATION:Gunnings Bridge\, Henley Street\, Alcester\, Warwickshire\, United Kingdom
CATEGORIES:RAAR,Rivers
ATTACH;FMTTYPE=image/jpeg:https://swanforwildlife.org/wp-content/uploads/2026/04/Header-Balsam-RAAR.jpg
ORGANIZER;CN="RAAR":MAILTO:riverarrowvolunteers@gmail.com
END:VEVENT
BEGIN:VEVENT
DTSTART;TZID=Europe/London:20260510T100000
DTEND;TZID=Europe/London:20260510T113000
DTSTAMP:20260421T101115
CREATED:20260415T122731Z
LAST-MODIFIED:20260417T124628Z
UID:3358-1778407200-1778412600@swanforwildlife.org
SUMMARY:Great Alne - Balsam Bash
DESCRIPTION:Community Himalayan balsam pull along the River Alne.\nMeeting point: inside the gate to Coffee Pot Wood\, Great Alne.
URL:https://swanforwildlife.org/event/great-alne-balsam-bash/
LOCATION:Copper Pot Wood\, Great Alne\, Henley Street\, Great Alne\, Warwickshire\, United Kingdom
CATEGORIES:RAAR,Rivers
ATTACH;FMTTYPE=image/jpeg:https://swanforwildlife.org/wp-content/uploads/2026/04/Header-Balsam-RAAR.jpg
ORGANIZER;CN="RAAR":MAILTO:riverarrowvolunteers@gmail.com
END:VEVENT
BEGIN:VEVENT
DTSTART;TZID=Europe/London:20260524T140000
DTEND;TZID=Europe/London:20260524T153000
DTSTAMP:20260421T101115
CREATED:20260415T123247Z
LAST-MODIFIED:20260417T125137Z
UID:3362-1779631200-1779636600@swanforwildlife.org
SUMMARY:River Arrow Walk (provisional)
DESCRIPTION:A guided walk exploring a new stretch of the River Arrow\, subject to final confirmation.
URL:https://swanforwildlife.org/event/river-arrow-walk-provisional/
CATEGORIES:RAAR,Rivers
ATTACH;FMTTYPE=image/jpeg:https://swanforwildlife.org/wp-content/uploads/2026/04/Header-Balsam-RAAR.jpg
ORGANIZER;CN="RAAR":MAILTO:riverarrowvolunteers@gmail.com
END:VEVENT
BEGIN:VEVENT
DTSTART;TZID=Europe/London:20260609T150000
DTEND;TZID=Europe/London:20260609T180000
DTSTAMP:20260421T101115
CREATED:20260415T155513Z
LAST-MODIFIED:20260415T155513Z
UID:3367-1781017200-1781028000@swanforwildlife.org
SUMMARY:Alcester Town Council - Climate & Nature Drop-In Engagement Event
DESCRIPTION:This event forms part of our ongoing work to support local climate adaptation\, biodiversity\, and community action. Our aim is to bring together organisations\, residents\, and volunteers to share knowledge\, inspire practical action\, and shape future priorities for Alcester.  The event will be structured around four themes: \n“Habitats” – Biodiversity Focus\nPromoting support for pollinators\, hedgehogs\, and native species\, alongside practical guidance on habitat creation and wildflower planting. \n“Energy & Waste” Advice\nOffering residents advice on energy efficiency\, cost-saving measures\, and low-carbon living\, including climate adaptations that mitigate the risk of flooding and drought\, especially in the garden (water smart gardening). \n“Action & Volunteering Hub”\nConnecting residents with local initiatives such as tree and hedgerow planting\, litter reduction\, and community growing projects. \n“Map Your Future” Interactive Wall\nAn opportunity for residents to share ideas and priorities directly onto a large map\, helping inform future planning and funding bids. \nWe would also like to have short expert led talks throughout the afternoon and crafts and activities\, such as making your own sausage dog draught excluder.  We would be delighted if your organisation could attend\, host a table\, provide materials\, or contribute to the programme in a way that suits you. Please let us know if you would also be interested in delivering a short informal “Meet the Expert” session.  We hope you can join us for what promises to be a positive and impactful community event.
URL:https://swanforwildlife.org/event/alcester-town-council-climate-nature-drop-in-engagement-event/
LOCATION:Eric Payne Community Centre\, Alcester
CATEGORIES:RAAR
ATTACH;FMTTYPE=image/jpeg:https://swanforwildlife.org/wp-content/uploads/2025/12/header-butterfly02.jpg
END:VEVENT
END:VCALENDAR