BEGIN:VCALENDAR
VERSION:2.0
PRODID:-//SWAN for Wildlife - ECPv6.15.20//NONSGML v1.0//EN
CALSCALE:GREGORIAN
METHOD:PUBLISH
X-WR-CALNAME:SWAN for Wildlife
X-ORIGINAL-URL:https://swanforwildlife.org
X-WR-CALDESC:Events for SWAN for Wildlife
REFRESH-INTERVAL;VALUE=DURATION:PT1H
X-Robots-Tag:noindex
X-PUBLISHED-TTL:PT1H
BEGIN:VTIMEZONE
TZID:Europe/London
BEGIN:DAYLIGHT
TZOFFSETFROM:+0000
TZOFFSETTO:+0100
TZNAME:BST
DTSTART:20250330T010000
END:DAYLIGHT
BEGIN:STANDARD
TZOFFSETFROM:+0100
TZOFFSETTO:+0000
TZNAME:GMT
DTSTART:20251026T010000
END:STANDARD
BEGIN:DAYLIGHT
TZOFFSETFROM:+0000
TZOFFSETTO:+0100
TZNAME:BST
DTSTART:20260329T010000
END:DAYLIGHT
BEGIN:STANDARD
TZOFFSETFROM:+0100
TZOFFSETTO:+0000
TZNAME:GMT
DTSTART:20261025T010000
END:STANDARD
BEGIN:DAYLIGHT
TZOFFSETFROM:+0000
TZOFFSETTO:+0100
TZNAME:BST
DTSTART:20270328T010000
END:DAYLIGHT
BEGIN:STANDARD
TZOFFSETFROM:+0100
TZOFFSETTO:+0000
TZNAME:GMT
DTSTART:20271031T010000
END:STANDARD
END:VTIMEZONE
BEGIN:VEVENT
DTSTART;TZID=Europe/London:20260216T183000
DTEND;TZID=Europe/London:20260216T200000
DTSTAMP:20260421T124759
CREATED:20260203T114757Z
LAST-MODIFIED:20260203T114757Z
UID:2148-1771266600-1771272000@swanforwildlife.org
SUMMARY:SWAN Hedge Connect group meeting
DESCRIPTION:Microsoft Teams meeting \nJoin: https://teams.microsoft.com/meet/35288037535081?p=DzeUA0p92MPUyH5ahx \nMeeting ID: 352 880 375 350 81 \nPasscode: 9s5WB3Ht \nFor more information\, please email contact@swanforwildlife.org. \n  \n 
URL:https://swanforwildlife.org/event/swan-hedge-connect-group-meeting/
LOCATION:Gloucestershire
CATEGORIES:Hedgerows
ATTACH;FMTTYPE=image/jpeg:https://swanforwildlife.org/wp-content/uploads/2026/01/header-hedges.jpg
END:VEVENT
END:VCALENDAR